BEGIN:VCALENDAR
VERSION:2.0
PRODID:-//eventon.com NONSGML v1.0//EN
CALSCALE:GREGORIAN
METHOD:PUBLISH
BEGIN:VEVENT
UID:69e4ff236cc7b
DTSTAMP:20260419T161323Z
DTSTART:20240229T140000Z
DTEND:20240229T170000Z
LOCATION:
SUMMARY:Jardin pédagogique
DESCRIPTION:Cultiver et entretenir un jardin\nhttps://lamaisondelentraide.o
 rg/events/jardin-pedagogique-14
URL:https://lamaisondelentraide.org/events/jardin-pedagogique-14
END:VEVENT
END:VCALENDAR