BEGIN:VCALENDAR
VERSION:2.0
PRODID:-//eventon.com NONSGML v1.0//EN
CALSCALE:GREGORIAN
METHOD:PUBLISH
BEGIN:VEVENT
UID:69e5028231e67
DTSTAMP:20260419T162746Z
DTSTART:20230504T140000Z
DTEND:20230504T170000Z
LOCATION:
SUMMARY:Jardin pédagogique
DESCRIPTION:Jardin pédagogique\nhttps://lamaisondelentraide.org/events/jar
 din-pedagogique-5
URL:https://lamaisondelentraide.org/events/jardin-pedagogique-5
END:VEVENT
END:VCALENDAR